BEGIN:VCALENDAR
VERSION:2.0
PRODID:icalendar-ruby
CALSCALE:GREGORIAN
METHOD:PUBLISH
BEGIN:VEVENT
DTSTAMP:20260424T154940Z
UID:8-600626@fafpampa.com
DTSTART:20261101T190000Z
DTEND:20261101T210000Z
CLASS:PUBLIC
CREATED:20260424T073813
DESCRIPTION:
LAST-MODIFIED:20260424T073813
LOCATION:
SUMMARY:Sunday Worship
URL;VALUE=URI:https://www.fafpampa.com/events/sunday-worship/2026-11-01
END:VEVENT
END:VCALENDAR
