BEGIN:VCALENDAR
VERSION:2.0
PRODID:icalendar-ruby
CALSCALE:GREGORIAN
METHOD:PUBLISH
BEGIN:VEVENT
DTSTAMP:20260424T142639Z
UID:8-600157@fafpampa.com
DTSTART:20261025T180000Z
DTEND:20261025T200000Z
CLASS:PUBLIC
CREATED:20260424T044438
DESCRIPTION:
LAST-MODIFIED:20260424T044438
LOCATION:
SUMMARY:Sunday Worship
URL;VALUE=URI:https://www.fafpampa.com/events/sunday-worship/2026-10-25
END:VEVENT
END:VCALENDAR
