BEGIN:VCALENDAR
VERSION:2.0
PRODID:icalendar-ruby
CALSCALE:GREGORIAN
METHOD:PUBLISH
BEGIN:VEVENT
DTSTAMP:20260424T112221Z
UID:8-599687@fafpampa.com
DTSTART:20261011T180000Z
DTEND:20261011T200000Z
CLASS:PUBLIC
CREATED:20260423T191619
DESCRIPTION:
LAST-MODIFIED:20260423T191619
LOCATION:
SUMMARY:Sunday Worship
URL;VALUE=URI:https://www.fafpampa.com/events/sunday-worship/2026-10-11
END:VEVENT
END:VCALENDAR
