BEGIN:VCALENDAR
VERSION:2.0
PRODID:icalendar-ruby
CALSCALE:GREGORIAN
METHOD:PUBLISH
BEGIN:VEVENT
DTSTAMP:20260424T094608Z
UID:8-599686@fafpampa.com
DTSTART:20261004T180000Z
DTEND:20261004T200000Z
CLASS:PUBLIC
CREATED:20260423T191619
DESCRIPTION:
LAST-MODIFIED:20260423T191619
LOCATION:
SUMMARY:Sunday Worship
URL;VALUE=URI:https://www.fafpampa.com/events/sunday-worship/2026-10-04
END:VEVENT
END:VCALENDAR
