BEGIN:VCALENDAR
VERSION:2.0
PRODID:icalendar-ruby
CALSCALE:GREGORIAN
METHOD:PUBLISH
BEGIN:VEVENT
DTSTAMP:20260422T110257Z
UID:8-594069@fafpampa.com
DTSTART:20260927T180000Z
DTEND:20260927T200000Z
CLASS:PUBLIC
CREATED:20260421T174020
DESCRIPTION:
LAST-MODIFIED:20260421T174020
LOCATION:
SUMMARY:Sunday Worship
URL;VALUE=URI:https://www.fafpampa.com/events/sunday-worship/2026-09-27
END:VEVENT
END:VCALENDAR
