BEGIN:VCALENDAR
VERSION:2.0
PRODID:icalendar-ruby
CALSCALE:GREGORIAN
METHOD:PUBLISH
BEGIN:VEVENT
DTSTAMP:20260422T093718Z
UID:8-594068@fafpampa.com
DTSTART:20260920T180000Z
DTEND:20260920T200000Z
CLASS:PUBLIC
CREATED:20260421T174020
DESCRIPTION:
LAST-MODIFIED:20260421T174020
LOCATION:
SUMMARY:Sunday Worship
URL;VALUE=URI:https://www.fafpampa.com/events/sunday-worship/2026-09-20
END:VEVENT
END:VCALENDAR
