BEGIN:VCALENDAR
VERSION:2.0
PRODID:icalendar-ruby
CALSCALE:GREGORIAN
METHOD:PUBLISH
BEGIN:VEVENT
DTSTAMP:20260422T171008Z
UID:7-594854@fafpampa.com
DTSTART:20261101T170000Z
DTEND:20261101T183000Z
CLASS:PUBLIC
CREATED:20260422T073812
DESCRIPTION:
LAST-MODIFIED:20260422T073812
LOCATION:
SUMMARY:Sunday Worship Early Service
URL;VALUE=URI:https://www.fafpampa.com/events/sunday-worship-early-service/
 2026-11-01
END:VEVENT
END:VCALENDAR
