BEGIN:VCALENDAR
VERSION:2.0
PRODID:icalendar-ruby
CALSCALE:GREGORIAN
METHOD:PUBLISH
BEGIN:VEVENT
DTSTAMP:20260422T154449Z
UID:7-594853@fafpampa.com
DTSTART:20261025T160000Z
DTEND:20261025T173000Z
CLASS:PUBLIC
CREATED:20260422T073812
DESCRIPTION:
LAST-MODIFIED:20260422T073812
LOCATION:
SUMMARY:Sunday Worship Early Service
URL;VALUE=URI:https://www.fafpampa.com/events/sunday-worship-early-service/
 2026-10-25
END:VEVENT
END:VCALENDAR
