BEGIN:VCALENDAR
VERSION:2.0
PRODID:icalendar-ruby
CALSCALE:GREGORIAN
METHOD:PUBLISH
BEGIN:VEVENT
DTSTAMP:20260422T142612Z
UID:7-594384@fafpampa.com
DTSTART:20261018T160000Z
DTEND:20261018T173000Z
CLASS:PUBLIC
CREATED:20260422T044317
DESCRIPTION:
LAST-MODIFIED:20260422T044317
LOCATION:
SUMMARY:Sunday Worship Early Service
URL;VALUE=URI:https://www.fafpampa.com/events/sunday-worship-early-service/
 2026-10-18
END:VEVENT
END:VCALENDAR
