BEGIN:VCALENDAR
VERSION:2.0
PRODID:icalendar-ruby
CALSCALE:GREGORIAN
METHOD:PUBLISH
BEGIN:VEVENT
DTSTAMP:20260424T082302Z
UID:7-599530@fafpampa.com
DTSTART:20261004T160000Z
DTEND:20261004T173000Z
CLASS:PUBLIC
CREATED:20260423T191619
DESCRIPTION:
LAST-MODIFIED:20260423T191619
LOCATION:
SUMMARY:Sunday Worship Early Service
URL;VALUE=URI:https://www.fafpampa.com/events/sunday-worship-early-service/
 2026-10-04
END:VEVENT
END:VCALENDAR
