BEGIN:VCALENDAR
VERSION:2.0
PRODID:icalendar-ruby
CALSCALE:GREGORIAN
METHOD:PUBLISH
BEGIN:VEVENT
DTSTAMP:20260422T084306Z
UID:7-593912@fafpampa.com
DTSTART:20260920T160000Z
DTEND:20260920T173000Z
CLASS:PUBLIC
CREATED:20260421T174020
DESCRIPTION:
LAST-MODIFIED:20260421T174020
LOCATION:
SUMMARY:Sunday Worship Early Service
URL;VALUE=URI:https://www.fafpampa.com/events/sunday-worship-early-service/
 2026-09-20
END:VEVENT
END:VCALENDAR
