BEGIN:VCALENDAR
VERSION:2.0
PRODID:icalendar-ruby
CALSCALE:GREGORIAN
METHOD:PUBLISH
BEGIN:VEVENT
DTSTAMP:20260422T201446Z
UID:6-595166@fafpampa.com
DTSTART:20261101T013000Z
DTEND:20261101T033000Z
CLASS:PUBLIC
CREATED:20260422T103332
DESCRIPTION:
LAST-MODIFIED:20260422T103332
LOCATION:
SUMMARY:Saturday Worship
URL;VALUE=URI:https://www.fafpampa.com/events/saturday-worship/2026-10-31
END:VEVENT
END:VCALENDAR
