BEGIN:VCALENDAR
VERSION:2.0
PRODID:icalendar-ruby
CALSCALE:GREGORIAN
METHOD:PUBLISH
BEGIN:VEVENT
DTSTAMP:20260422T184318Z
UID:6-595165@fafpampa.com
DTSTART:20261025T013000Z
DTEND:20261025T033000Z
CLASS:PUBLIC
CREATED:20260422T103332
DESCRIPTION:
LAST-MODIFIED:20260422T103332
LOCATION:
SUMMARY:Saturday Worship
URL;VALUE=URI:https://www.fafpampa.com/events/saturday-worship/2026-10-24
END:VEVENT
END:VCALENDAR
