BEGIN:VCALENDAR
VERSION:2.0
PRODID:icalendar-ruby
CALSCALE:GREGORIAN
METHOD:PUBLISH
BEGIN:VEVENT
DTSTAMP:20260422T172315Z
UID:6-594696@fafpampa.com
DTSTART:20261018T013000Z
DTEND:20261018T033000Z
CLASS:PUBLIC
CREATED:20260422T073812
DESCRIPTION:
LAST-MODIFIED:20260422T073812
LOCATION:
SUMMARY:Saturday Worship
URL;VALUE=URI:https://www.fafpampa.com/events/saturday-worship/2026-10-17
END:VEVENT
END:VCALENDAR
