BEGIN:VCALENDAR
VERSION:2.0
PRODID:icalendar-ruby
CALSCALE:GREGORIAN
METHOD:PUBLISH
BEGIN:VEVENT
DTSTAMP:20260422T142552Z
UID:6-594226@fafpampa.com
DTSTART:20261004T013000Z
DTEND:20261004T033000Z
CLASS:PUBLIC
CREATED:20260422T044317
DESCRIPTION:
LAST-MODIFIED:20260422T044317
LOCATION:
SUMMARY:Saturday Worship
URL;VALUE=URI:https://www.fafpampa.com/events/saturday-worship/2026-10-03
END:VEVENT
END:VCALENDAR
