BEGIN:VCALENDAR
VERSION:2.0
PRODID:icalendar-ruby
CALSCALE:GREGORIAN
METHOD:PUBLISH
BEGIN:VEVENT
DTSTAMP:20260422T125344Z
UID:6-594225@fafpampa.com
DTSTART:20260927T013000Z
DTEND:20260927T033000Z
CLASS:PUBLIC
CREATED:20260422T044317
DESCRIPTION:
LAST-MODIFIED:20260422T044317
LOCATION:
SUMMARY:Saturday Worship
URL;VALUE=URI:https://www.fafpampa.com/events/saturday-worship/2026-09-26
END:VEVENT
END:VCALENDAR
