BEGIN:VCALENDAR
VERSION:2.0
PRODID:icalendar-ruby
CALSCALE:GREGORIAN
METHOD:PUBLISH
BEGIN:VEVENT
DTSTAMP:20260422T113113Z
UID:6-593756@fafpampa.com
DTSTART:20260920T013000Z
DTEND:20260920T033000Z
CLASS:PUBLIC
CREATED:20260421T174019
DESCRIPTION:
LAST-MODIFIED:20260421T174019
LOCATION:
SUMMARY:Saturday Worship
URL;VALUE=URI:https://www.fafpampa.com/events/saturday-worship/2026-09-19
END:VEVENT
END:VCALENDAR
